BEGIN:VCALENDAR
VERSION:2.0
PRODID:-//The Painters Lounge - ECPv6.15.20//NONSGML v1.0//EN
CALSCALE:GREGORIAN
METHOD:PUBLISH
X-ORIGINAL-URL:https://thepainterslounge.com
X-WR-CALDESC:Events for The Painters Lounge
REFRESH-INTERVAL;VALUE=DURATION:PT1H
X-Robots-Tag:noindex
X-PUBLISHED-TTL:PT1H
BEGIN:VTIMEZONE
TZID:America/Phoenix
BEGIN:STANDARD
TZOFFSETFROM:-0700
TZOFFSETTO:-0700
TZNAME:MST
DTSTART:20230101T000000
END:STANDARD
END:VTIMEZONE
BEGIN:VEVENT
DTSTART;TZID=America/Phoenix:20241004T190000
DTEND;TZID=America/Phoenix:20241004T213000
DTSTAMP:20260421T081639
CREATED:20240916T060354Z
LAST-MODIFIED:20240916T060354Z
UID:10002396-1728068400-1728077400@thepainterslounge.com
SUMMARY:One Fall Tree
DESCRIPTION:Instructor: Dina \nHey Phoenix- are you ready to have an absolute blast?! Let’s paint & sip! No experience needed! Just come on in and have some fun! \nHere’s the Details: Spend your Friday Night sipping and painting at The Painters Lounge! Grab your family\, friends or a complete stranger and paint with us! We’ll provide everything you need to paint ONE FALL TREE\, including step-by-step professional art instruction! Plus tonight is First Fridays on Roosevelt Row- it’s SO much fun! Paint with us first\, then head out to Roosevelt Street for more art\, music and food- you’ll have time for all of it! \nAnd… drumroll please… because we share a suite with Valley Coffee Co\, we serve beer & wine!!! And food! We have a light selection of food\, including sandwiches\, tamales and A-MAZING desserts! Isn’t that awesome!?!? We also have a full COFFEE bar!!! With pastries!! That’s right- we have it all!!! One stop fun! No food or drinks can be brought in\, ‘cuz hey\, we have them! (Extra charge.) One more time… we sell wine! And beer! And food! And coffee! Just arrive a few minutes early and “order up”! \nIn a stress free\, social setting\, an instructor will guide you through replicating the Featured Painting all while adding your own style and artistic touch. Whether you are a true Picasso or still working on a straight line\, you will leave The Lounge with a MASTERPIECE of your own. So why come here? Oh so many reasons! We are located in downtown Phoenix\, on ROOSEVELT ROW. We are right in the middle of the ARTS DISTRICT in a brand new contemporary space\, filled with giant windows! There’s a FREE PARKING garage right outside our front door. Yes\, you read it right – a FREE parking garage! Our ceilings are high\, lots of great lighting and room to move around! We have beautiful furniture\, cuz plastic folding tables don’t exactly inspire\, and our SOUND SYSTEM is killer! \nYou get PROFESSIONAL art instruction\, and a lot of great laughs! Plus we have food\, beer\, wine & coffee right here!! So your painting and sandwich can be side by side\, just like long lost friends! \nCancellation Policy: Whaaat??? You’re gonna cancel? Well ok. But you must cancel 48 hours in advance of the class to receive refund or to be transferred to a different class. 48 hours in advance- that’s it! Easy right? Please DO NOT ask us to bend on this policy- it’s just awkward for all of us! So that’s what you need to know! Now let’s paint and sip! THANKS FOR PAINTING WITH US! WE LOVE Y’ALL!!❤️
URL:https://thepainterslounge.com/event/one-fall-tree/
LOCATION:The Painters Lounge\, 100 W. Portland St. Suite 108\, Phoenix\, AZ\, 85003\, United States
CATEGORIES:Featured Painting
GEO:33.4601422;-112.0759007
X-APPLE-STRUCTURED-LOCATION;VALUE=URI;X-ADDRESS=The Painters Lounge 100 W. Portland St. Suite 108 Phoenix AZ 85003 United States;X-APPLE-RADIUS=500;X-TITLE=100 W. Portland St. Suite 108:geo:-112.0759007,33.4601422
END:VEVENT
BEGIN:VEVENT
DTSTART;TZID=America/Phoenix:20241005T190000
DTEND;TZID=America/Phoenix:20241005T213000
DTSTAMP:20260421T081639
CREATED:20240912T055413Z
LAST-MODIFIED:20241002T054155Z
UID:10002395-1728154800-1728163800@thepainterslounge.com
SUMMARY:Changing Leaves
DESCRIPTION:Instructor: Lily \nHey Phoenix- are you ready to have an absolute blast?! Let’s paint & sip! No experience needed! Just come on in and have some fun! \nHere’s the Details: Spend your Saturday Night sipping and painting at The Painters Lounge! Grab your family\, friends or a complete stranger and paint with us! We’ll provide everything you need to paint CHANGING LEAVES\, including step-by-step professional art instruction! \nAnd… drumroll please… because we share a suite with Valley Coffee Co\, we serve beer & wine!!! And food! We have a light selection of food\, including sandwiches\, tamales and A-MAZING desserts! Isn’t that awesome!?!? We also have a full COFFEE bar!!! With pastries!! That’s right- we have it all!!! One stop fun! No food or drinks can be brought in\, ‘cuz hey\, we have them! (Extra charge.) One more time… we sell wine! And beer! And food! And coffee! Just arrive a few minutes early and “order up”! \nIn a stress free\, social setting\, an instructor will guide you through replicating the Featured Painting all while adding your own style and artistic touch. Whether you are a true Picasso or still working on a straight line\, you will leave The Lounge with a MASTERPIECE of your own. So why come here? Oh so many reasons! We are located in downtown Phoenix\, on ROOSEVELT ROW. We are right in the middle of the ARTS DISTRICT in a brand new contemporary space\, filled with giant windows! There’s a FREE PARKING garage right outside our front door. Yes\, you read it right – a FREE parking garage! Our ceilings are high\, lots of great lighting and room to move around! We have beautiful furniture\, cuz plastic folding tables don’t exactly inspire\, and our SOUND SYSTEM is killer! \nYou get PROFESSIONAL art instruction\, and a lot of great laughs! Plus we have food\, beer\, wine & coffee right here!! So your painting and sandwich can be side by side\, just like long lost friends! \nCancellation Policy: Whaaat??? You’re gonna cancel? Well ok. But you must cancel 48 hours in advance of the class to receive refund or to be transferred to a different class. 48 hours in advance- that’s it! Easy right? Please DO NOT ask us to bend on this policy- it’s just awkward for all of us! So that’s what you need to know! Now let’s paint and sip! THANKS FOR PAINTING WITH US! WE LOVE Y’ALL!!❤️
URL:https://thepainterslounge.com/event/autumn-valley/
LOCATION:The Painters Lounge\, 100 W. Portland St. Suite 108\, Phoenix\, AZ\, 85003\, United States
CATEGORIES:Featured Painting
GEO:33.4601422;-112.0759007
X-APPLE-STRUCTURED-LOCATION;VALUE=URI;X-ADDRESS=The Painters Lounge 100 W. Portland St. Suite 108 Phoenix AZ 85003 United States;X-APPLE-RADIUS=500;X-TITLE=100 W. Portland St. Suite 108:geo:-112.0759007,33.4601422
END:VEVENT
BEGIN:VEVENT
DTSTART;TZID=America/Phoenix:20241011T190000
DTEND;TZID=America/Phoenix:20241011T213000
DTSTAMP:20260421T081639
CREATED:20241002T053447Z
LAST-MODIFIED:20241002T053447Z
UID:10002400-1728673200-1728682200@thepainterslounge.com
SUMMARY:Dark Night
DESCRIPTION:Instructor: Brenda \nHey Phoenix- are you ready to have an absolute blast?! Let’s paint & sip! No experience needed! Just come on in and have some fun! \nHere’s the Details: Spend your Friday Night sipping and painting at The Painters Lounge! Grab your family\, friends or a complete stranger and paint with us! We’ll provide everything you need to paint DARK NIGHT\, including step-by-step professional art instruction! \nAnd… drumroll please… because we share a suite with Valley Coffee Co\, we serve beer & wine!!! And food! We have a light selection of food\, including sandwiches\, tamales and A-MAZING desserts! Isn’t that awesome!?!? We also have a full COFFEE bar!!! With pastries!! That’s right- we have it all!!! One stop fun! No food or drinks can be brought in\, ‘cuz hey\, we have them! (Extra charge.) One more time… we sell wine! And beer! And food! And coffee! Just arrive a few minutes early and “order up”! \nIn a stress free\, social setting\, an instructor will guide you through replicating the Featured Painting all while adding your own style and artistic touch. Whether you are a true Picasso or still working on a straight line\, you will leave The Lounge with a MASTERPIECE of your own. So why come here? Oh so many reasons! We are located in downtown Phoenix\, on ROOSEVELT ROW. We are right in the middle of the ARTS DISTRICT in a brand new contemporary space\, filled with giant windows! There’s a FREE PARKING garage right outside our front door. Yes\, you read it right – a FREE parking garage! Our ceilings are high\, lots of great lighting and room to move around! We have beautiful furniture\, cuz plastic folding tables don’t exactly inspire\, and our SOUND SYSTEM is killer! \nYou get PROFESSIONAL art instruction\, and a lot of great laughs! Plus we have food\, beer\, wine & coffee right here!! So your painting and sandwich can be side by side\, just like long lost friends! \nCancellation Policy: Whaaat??? You’re gonna cancel? Well ok. But you must cancel 48 hours in advance of the class to receive refund or to be transferred to a different class. 48 hours in advance- that’s it! Easy right? Please DO NOT ask us to bend on this policy- it’s just awkward for all of us! So that’s what you need to know! Now let’s paint and sip! THANKS FOR PAINTING WITH US! WE LOVE Y’ALL!!❤️
URL:https://thepainterslounge.com/event/dark-night/
LOCATION:The Painters Lounge\, 100 W. Portland St. Suite 108\, Phoenix\, AZ\, 85003\, United States
CATEGORIES:Featured Painting
GEO:33.4601422;-112.0759007
X-APPLE-STRUCTURED-LOCATION;VALUE=URI;X-ADDRESS=The Painters Lounge 100 W. Portland St. Suite 108 Phoenix AZ 85003 United States;X-APPLE-RADIUS=500;X-TITLE=100 W. Portland St. Suite 108:geo:-112.0759007,33.4601422
END:VEVENT
BEGIN:VEVENT
DTSTART;TZID=America/Phoenix:20241012T190000
DTEND;TZID=America/Phoenix:20241012T210000
DTSTAMP:20260421T081639
CREATED:20240923T061741Z
LAST-MODIFIED:20240923T061741Z
UID:10002399-1728759600-1728766800@thepainterslounge.com
SUMMARY:The Witch Is In
DESCRIPTION:Instructor: Dina \nHey Phoenix- are you ready to have an absolute blast?! Let’s paint & sip! No experience needed! Just come on in and have some fun! \nHere’s the Details: Spend your Saturday Night sipping and painting at The Painters Lounge! Grab your family\, friends or a complete stranger and paint with us! We’ll provide everything you need to paint THE WITCH IS IN\, including step-by-step professional art instruction! \nAnd… drumroll please… because we share a suite with Valley Coffee Co\, we serve beer & wine!!! And food! We have a light selection of food\, including sandwiches\, tamales and A-MAZING desserts! Isn’t that awesome!?!? We also have a full COFFEE bar!!! With pastries!! That’s right- we have it all!!! One stop fun! No food or drinks can be brought in\, ‘cuz hey\, we have them! (Extra charge.) One more time… we sell wine! And beer! And food! And coffee! Just arrive a few minutes early and “order up”! \nIn a stress free\, social setting\, an instructor will guide you through replicating the Featured Painting all while adding your own style and artistic touch. Whether you are a true Picasso or still working on a straight line\, you will leave The Lounge with a MASTERPIECE of your own. So why come here? Oh so many reasons! We are located in downtown Phoenix\, on ROOSEVELT ROW. We are right in the middle of the ARTS DISTRICT in a brand new contemporary space\, filled with giant windows! There’s a FREE PARKING garage right outside our front door. Yes\, you read it right – a FREE parking garage! Our ceilings are high\, lots of great lighting and room to move around! We have beautiful furniture\, cuz plastic folding tables don’t exactly inspire\, and our SOUND SYSTEM is killer! \nYou get PROFESSIONAL art instruction\, and a lot of great laughs! Plus we have food\, beer\, wine & coffee right here!! So your painting and sandwich can be side by side\, just like long lost friends! \nCancellation Policy: Whaaat??? You’re gonna cancel? Well ok. But you must cancel 48 hours in advance of the class to receive refund or to be transferred to a different class. 48 hours in advance- that’s it! Easy right? Please DO NOT ask us to bend on this policy- it’s just awkward for all of us! So that’s what you need to know! Now let’s paint and sip! THANKS FOR PAINTING WITH US! WE LOVE Y’ALL!!❤️
URL:https://thepainterslounge.com/event/the-witch-is-in/
LOCATION:The Painters Lounge\, 100 W. Portland St. Suite 108\, Phoenix\, AZ\, 85003\, United States
CATEGORIES:Featured Painting
GEO:33.4601422;-112.0759007
X-APPLE-STRUCTURED-LOCATION;VALUE=URI;X-ADDRESS=The Painters Lounge 100 W. Portland St. Suite 108 Phoenix AZ 85003 United States;X-APPLE-RADIUS=500;X-TITLE=100 W. Portland St. Suite 108:geo:-112.0759007,33.4601422
END:VEVENT
BEGIN:VEVENT
DTSTART;TZID=America/Phoenix:20241013T140000
DTEND;TZID=America/Phoenix:20241013T163000
DTSTAMP:20260421T081639
CREATED:20240919T202533Z
LAST-MODIFIED:20240919T202533Z
UID:10002397-1728828000-1728837000@thepainterslounge.com
SUMMARY:Paint Your Pet!
DESCRIPTION:Instructor: Lily \nIt’s here! Paint Your Pet! We know you’ve been waiting! So spend your Sunday Afternoon sipping and painting YOUR pet\, with The Painters Lounge! Grab your family\, friends or a complete stranger and paint with us! We’ll provide everything you need to paint a picture of YOUR pet – including  professional art instruction! NOTE: This class is held at GenuWine\, 888 N. 1st Ave.\, Phoenix\, so please go there! Don’t come to our studio ‘cuz we’ll be at GenuWine! GenuWine is only a block from our studio\, soooo easy! And they are a self serve wine bar- can you believe that? You can pour the wine on your own- just like a vending machine for wine- but better! \nPlease email us a picture of your pet prior to the class\, and we will pre-sketch it for you\, cuz hey\, we’re here for ya!  \nSpace is limited to the first 12 people\, so we can give you tons of personal attention with your very important Pet Painting! \nAnd… drumroll please… because we are inside GenuWine\, we serve beer & wine!!! And food! We have a light selection of snacks including charcuterie boards and the BEST pretzels bites with cheese! Isn’t that awesome!?!? That’s right- we have it all!!! One stop fun! No food or drinks can be brought in\, ‘cuz hey\, we have them! (Extra charge.) \nOne more time… we sell wine! And beer! And food! Just arrive a few minutes early and “order up”! \nIn a stress free\, social setting\, an instructor will assist you through replicating little Fido & Mittens!  Whether you are a true Picasso or still working on a straight line\, you will leave The Lounge with a PET PORTRAIT all your own. \nSo why come here? Oh so many reasons! We are located in downtown Phoenix\, on ROOSEVELT ROW. We are right in the middle of the ARTS DISTRICT! There’s a parking garage right outside our front door. There’s lots of great lighting and ROOM TO MOVE AROUND! We have beautiful furniture\, cuz plastic folding tables don’t exactly inspire\, and our SOUND SYSTEM is killer! You get PROFESSIONAL art instruction\, and a lot of great laughs!
URL:https://thepainterslounge.com/event/paint-your-pet-22/
LOCATION:GenuWine\, 888 N 1st Ave. Suite 101\, Phoenix\, AZ\, 85003\, United States
CATEGORIES:Featured Painting
GEO:33.4583908;-112.0750316
X-APPLE-STRUCTURED-LOCATION;VALUE=URI;X-ADDRESS=GenuWine 888 N 1st Ave. Suite 101 Phoenix AZ 85003 United States;X-APPLE-RADIUS=500;X-TITLE=888 N 1st Ave. Suite 101:geo:-112.0750316,33.4583908
END:VEVENT
BEGIN:VEVENT
DTSTART;TZID=America/Phoenix:20241018T190000
DTEND;TZID=America/Phoenix:20241018T213000
DTSTAMP:20260421T081639
CREATED:20241002T053906Z
LAST-MODIFIED:20241002T053906Z
UID:10002401-1729278000-1729287000@thepainterslounge.com
SUMMARY:Prickly Pear For Fall
DESCRIPTION:Instructor: Dina \nHey Phoenix- are you ready to have an absolute blast?! Let’s paint & sip! No experience needed! Just come on in and have some fun! \nHere’s the Details: Spend your Friday Night sipping and painting at The Painters Lounge! Grab your family\, friends or a complete stranger and paint with us! We’ll provide everything you need to paint a PRICKLY PEAR FOR FALL\, including step-by-step professional art instruction! \nAnd… drumroll please… because we share a suite with Valley Coffee Co\, we serve beer & wine!!! And food! We have a light selection of food\, including sandwiches\, tamales and A-MAZING desserts! Isn’t that awesome!?!? We also have a full COFFEE bar!!! With pastries!! That’s right- we have it all!!! One stop fun! No food or drinks can be brought in\, ‘cuz hey\, we have them! (Extra charge.) One more time… we sell wine! And beer! And food! And coffee! Just arrive a few minutes early and “order up”! \nIn a stress free\, social setting\, an instructor will guide you through replicating the Featured Painting all while adding your own style and artistic touch. Whether you are a true Picasso or still working on a straight line\, you will leave The Lounge with a MASTERPIECE of your own. So why come here? Oh so many reasons! We are located in downtown Phoenix\, on ROOSEVELT ROW. We are right in the middle of the ARTS DISTRICT in a brand new contemporary space\, filled with giant windows! There’s a FREE PARKING garage right outside our front door. Yes\, you read it right – a FREE parking garage! Our ceilings are high\, lots of great lighting and room to move around! We have beautiful furniture\, cuz plastic folding tables don’t exactly inspire\, and our SOUND SYSTEM is killer! \nYou get PROFESSIONAL art instruction\, and a lot of great laughs! Plus we have food\, beer\, wine & coffee right here!! So your painting and sandwich can be side by side\, just like long lost friends! \nCancellation Policy: Whaaat??? You’re gonna cancel? Well ok. But you must cancel 48 hours in advance of the class to receive refund or to be transferred to a different class. 48 hours in advance- that’s it! Easy right? Please DO NOT ask us to bend on this policy- it’s just awkward for all of us! So that’s what you need to know! Now let’s paint and sip! THANKS FOR PAINTING WITH US! WE LOVE Y’ALL!!❤️
URL:https://thepainterslounge.com/event/prickly-pear-for-fall/
LOCATION:The Painters Lounge\, 100 W. Portland St. Suite 108\, Phoenix\, AZ\, 85003\, United States
CATEGORIES:Featured Painting
GEO:33.4601422;-112.0759007
X-APPLE-STRUCTURED-LOCATION;VALUE=URI;X-ADDRESS=The Painters Lounge 100 W. Portland St. Suite 108 Phoenix AZ 85003 United States;X-APPLE-RADIUS=500;X-TITLE=100 W. Portland St. Suite 108:geo:-112.0759007,33.4601422
END:VEVENT
BEGIN:VEVENT
DTSTART;TZID=America/Phoenix:20241019T200000
DTEND;TZID=America/Phoenix:20241019T230000
DTSTAMP:20260421T081639
CREATED:20240919T204528Z
LAST-MODIFIED:20240919T204528Z
UID:10002398-1729368000-1729378800@thepainterslounge.com
SUMMARY:Private Event!
DESCRIPTION:Instructor: Dina \nOh dang- this date is reserved for a very special Private Event! But we have lots of other events this month\, so head back to our Calendar and sign up! Or keep reading to see how this works!  No experience needed! Just come on in and have some fun! \nHere’s the Details: Spend your Saturday Night sipping and painting at The Painters Lounge! Grab your family\, friends or a complete stranger and paint with us! We’ll provide everything you need to paint our featured painting\, including step-by-step professional art instruction! \nAnd… drumroll please… because we share a suite with Valley Coffee Co\, we serve beer & wine!!! And food! We have a light selection of food\, including sandwiches\, tamales and A-MAZING desserts! Isn’t that awesome!?!? We also have a full COFFEE bar!!! With pastries!! That’s right- we have it all!!! One stop fun! No food or drinks can be brought in\, ‘cuz hey\, we have them! (Extra charge.) One more time… we sell wine! And beer! And food! And coffee! Just arrive a few minutes early and “order up”! \nIn a stress free\, social setting\, an instructor will guide you through replicating the Featured Painting all while adding your own style and artistic touch. Whether you are a true Picasso or still working on a straight line\, you will leave The Lounge with a MASTERPIECE of your own. So why come here? Oh so many reasons! We are located in downtown Phoenix\, on ROOSEVELT ROW. We are right in the middle of the ARTS DISTRICT in a brand new contemporary space\, filled with giant windows! There’s a FREE PARKING garage right outside our front door. Yes\, you read it right – a FREE parking garage! Our ceilings are high\, lots of great lighting and room to move around! We have beautiful furniture\, cuz plastic folding tables don’t exactly inspire\, and our SOUND SYSTEM is killer! \nYou get PROFESSIONAL art instruction\, and a lot of great laughs! Plus we have food\, beer\, wine & coffee right here!! So your painting and sandwich can be side by side\, just like long lost friends! \nCancellation Policy: Whaaat??? You’re gonna cancel? Well ok. But you must cancel 48 hours in advance of the class to receive refund or to be transferred to a different class. 48 hours in advance- that’s it! Easy right? Please DO NOT ask us to bend on this policy- it’s just awkward for all of us! So that’s what you need to know! Now let’s paint and sip! THANKS FOR PAINTING WITH US! WE LOVE Y’ALL!!❤️
URL:https://thepainterslounge.com/event/private-event-89/
LOCATION:The Painters Lounge\, 100 W. Portland St. Suite 108\, Phoenix\, AZ\, 85003\, United States
CATEGORIES:Private Event
GEO:33.4601422;-112.0759007
X-APPLE-STRUCTURED-LOCATION;VALUE=URI;X-ADDRESS=The Painters Lounge 100 W. Portland St. Suite 108 Phoenix AZ 85003 United States;X-APPLE-RADIUS=500;X-TITLE=100 W. Portland St. Suite 108:geo:-112.0759007,33.4601422
END:VEVENT
BEGIN:VEVENT
DTSTART;TZID=America/Phoenix:20241025T190000
DTEND;TZID=America/Phoenix:20241025T213000
DTSTAMP:20260421T081639
CREATED:20241010T045818Z
LAST-MODIFIED:20241010T045818Z
UID:10002402-1729882800-1729891800@thepainterslounge.com
SUMMARY:Pumpkin for Autumn
DESCRIPTION:Instructor: Dina \nHey Phoenix- are you ready to have an absolute blast?! Let’s paint & sip! No experience needed! Just come on in and have some fun! \nHere’s the Details: Spend your Friday Night sipping and painting at The Painters Lounge! Grab your family\, friends or a complete stranger and paint with us! We’ll provide everything you need to paint a PUMPKIN FOR AUTUMN\, including step-by-step professional art instruction! \nAnd… drumroll please… because we share a suite with Valley Coffee Co\, we serve beer & wine!!! And food! We have a light selection of food\, including sandwiches\, tamales and A-MAZING desserts! Isn’t that awesome!?!? We also have a full COFFEE bar!!! With pastries!! That’s right- we have it all!!! One stop fun! No food or drinks can be brought in\, ‘cuz hey\, we have them! (Extra charge.) One more time… we sell wine! And beer! And food! And coffee! Just arrive a few minutes early and “order up”! \nIn a stress free\, social setting\, an instructor will guide you through replicating the Featured Painting all while adding your own style and artistic touch. Whether you are a true Picasso or still working on a straight line\, you will leave The Lounge with a MASTERPIECE of your own. So why come here? Oh so many reasons! We are located in downtown Phoenix\, on ROOSEVELT ROW. We are right in the middle of the ARTS DISTRICT in a brand new contemporary space\, filled with giant windows! There’s a FREE PARKING garage right outside our front door. Yes\, you read it right – a FREE parking garage! Our ceilings are high\, lots of great lighting and room to move around! We have beautiful furniture\, cuz plastic folding tables don’t exactly inspire\, and our SOUND SYSTEM is killer! \nYou get PROFESSIONAL art instruction\, and a lot of great laughs! Plus we have food\, beer\, wine & coffee right here!! So your painting and sandwich can be side by side\, just like long lost friends! \nCancellation Policy: Whaaat??? You’re gonna cancel? Well ok. But you must cancel 48 hours in advance of the class to receive refund or to be transferred to a different class. 48 hours in advance- that’s it! Easy right? Please DO NOT ask us to bend on this policy- it’s just awkward for all of us! So that’s what you need to know! Now let’s paint and sip! THANKS FOR PAINTING WITH US! WE LOVE Y’ALL!!❤️
URL:https://thepainterslounge.com/event/pumpkin-for-autumn/
LOCATION:The Painters Lounge\, 100 W. Portland St. Suite 108\, Phoenix\, AZ\, 85003\, United States
CATEGORIES:Featured Painting
GEO:33.4601422;-112.0759007
X-APPLE-STRUCTURED-LOCATION;VALUE=URI;X-ADDRESS=The Painters Lounge 100 W. Portland St. Suite 108 Phoenix AZ 85003 United States;X-APPLE-RADIUS=500;X-TITLE=100 W. Portland St. Suite 108:geo:-112.0759007,33.4601422
END:VEVENT
BEGIN:VEVENT
DTSTART;TZID=America/Phoenix:20241026T190000
DTEND;TZID=America/Phoenix:20241026T213000
DTSTAMP:20260421T081639
CREATED:20241010T050329Z
LAST-MODIFIED:20241026T171517Z
UID:10002403-1729969200-1729978200@thepainterslounge.com
SUMMARY:Cuckoo  Bird- Flash Sale! $25
DESCRIPTION:Instructor: Dina \nHey Phoenix- are you ready to have an absolute blast?! Let’s paint & sip! No experience needed! Just come on in and have some fun! \nHere’s the Details: Spend your Saturday Night sipping and painting at The Painters Lounge! Grab your family\, friends or a complete stranger and paint with us! We’ll provide everything you need to paint a CUCKOO BIRD\, including step-by-step professional art instruction! \nAnd… drumroll please… because we share a suite with Valley Coffee Co\, we serve beer & wine!!! And food! We have a light selection of food\, including sandwiches\, tamales and A-MAZING desserts! Isn’t that awesome!?!? We also have a full COFFEE bar!!! With pastries!! That’s right- we have it all!!! One stop fun! No food or drinks can be brought in\, ‘cuz hey\, we have them! (Extra charge.) One more time… we sell wine! And beer! And food! And coffee! Just arrive a few minutes early and “order up”! \nIn a stress free\, social setting\, an instructor will guide you through replicating the Featured Painting all while adding your own style and artistic touch. Whether you are a true Picasso or still working on a straight line\, you will leave The Lounge with a MASTERPIECE of your own. So why come here? Oh so many reasons! We are located in downtown Phoenix\, on ROOSEVELT ROW. We are right in the middle of the ARTS DISTRICT in a brand new contemporary space\, filled with giant windows! There’s a FREE PARKING garage right outside our front door. Yes\, you read it right – a FREE parking garage! Our ceilings are high\, lots of great lighting and room to move around! We have beautiful furniture\, cuz plastic folding tables don’t exactly inspire\, and our SOUND SYSTEM is killer! \nYou get PROFESSIONAL art instruction\, and a lot of great laughs! Plus we have food\, beer\, wine & coffee right here!! So your painting and sandwich can be side by side\, just like long lost friends! \nCancellation Policy: Whaaat??? You’re gonna cancel? Well ok. But you must cancel 48 hours in advance of the class to receive refund or to be transferred to a different class. 48 hours in advance- that’s it! Easy right? Please DO NOT ask us to bend on this policy- it’s just awkward for all of us! So that’s what you need to know! Now let’s paint and sip! THANKS FOR PAINTING WITH US! WE LOVE Y’ALL!!❤️
URL:https://thepainterslounge.com/event/cuckoo-bird/
LOCATION:The Painters Lounge\, 100 W. Portland St. Suite 108\, Phoenix\, AZ\, 85003\, United States
CATEGORIES:Featured Painting
GEO:33.4601422;-112.0759007
X-APPLE-STRUCTURED-LOCATION;VALUE=URI;X-ADDRESS=The Painters Lounge 100 W. Portland St. Suite 108 Phoenix AZ 85003 United States;X-APPLE-RADIUS=500;X-TITLE=100 W. Portland St. Suite 108:geo:-112.0759007,33.4601422
END:VEVENT
END:VCALENDAR