BEGIN:VCALENDAR
VERSION:2.0
PRODID:-//The Painters Lounge - ECPv6.15.20//NONSGML v1.0//EN
CALSCALE:GREGORIAN
METHOD:PUBLISH
X-ORIGINAL-URL:https://thepainterslounge.com
X-WR-CALDESC:Events for The Painters Lounge
REFRESH-INTERVAL;VALUE=DURATION:PT1H
X-Robots-Tag:noindex
X-PUBLISHED-TTL:PT1H
BEGIN:VTIMEZONE
TZID:America/Phoenix
BEGIN:STANDARD
TZOFFSETFROM:-0700
TZOFFSETTO:-0700
TZNAME:MST
DTSTART:20230101T000000
END:STANDARD
END:VTIMEZONE
BEGIN:VEVENT
DTSTART;TZID=America/Phoenix:20241206T190000
DTEND;TZID=America/Phoenix:20241206T213000
DTSTAMP:20260421T015711
CREATED:20241104T195046Z
LAST-MODIFIED:20241119T194617Z
UID:10002412-1733511600-1733520600@thepainterslounge.com
SUMMARY:Christmas Cuckoo
DESCRIPTION:Instructor: Dina \nHey Phoenix- the HOLIDAYS are here! Are you ready to have an absolute blast?! Let’s paint & sip! No experience needed! Just come on in and have some fun! \nHere’s the Details: Spend your Saturday Night sipping and painting at The Painters Lounge! Grab your family\, friends or a complete stranger and paint with us! We’ll provide everything you need to paint CHRISTMAS CUCKOO\, including step-by-step professional art instruction! \nAnd… drumroll please… because we share a suite with Valley Coffee Co\, we serve beer & wine!!! And food! We have a light selection of food\, including sandwiches\, tamales and A-MAZING desserts! Isn’t that awesome!?!? We also have a full COFFEE bar!!! With pastries!! That’s right- we have it all!!! One stop fun! No food or drinks can be brought in\, ‘cuz hey\, we have them! (Extra charge.) One more time… we sell wine! And beer! And food! And coffee! Just arrive a few minutes early and “order up”! \nIn a stress free\, social setting\, an instructor will guide you through replicating the Featured Painting all while adding your own style and artistic touch. Whether you are a true Picasso or still working on a straight line\, you will leave The Lounge with a MASTERPIECE of your own. So why come here? Oh so many reasons! We are located in downtown Phoenix\, on ROOSEVELT ROW. We are right in the middle of the ARTS DISTRICT in a brand new contemporary space\, filled with giant windows! There’s a FREE PARKING garage right outside our front door. Yes\, you read it right – a FREE parking garage! Our ceilings are high\, lots of great lighting and room to move around! We have beautiful furniture\, cuz plastic folding tables don’t exactly inspire\, and our SOUND SYSTEM is killer! \nYou get PROFESSIONAL art instruction\, and a lot of great laughs! Plus we have food\, beer\, wine & coffee right here!! So your painting and sandwich can be side by side\, just like long lost friends! \nCancellation Policy: Whaaat??? You’re gonna cancel? Well ok. But you must cancel 48 hours in advance of the class to receive refund or to be transferred to a different class. 48 hours in advance- that’s it! Easy right? Please DO NOT ask us to bend on this policy- it’s just awkward for all of us! So that’s what you need to know! Now let’s paint and sip! THANKS FOR PAINTING WITH US! WE LOVE Y’ALL!!❤️
URL:https://thepainterslounge.com/event/christmas-cuckoo/
LOCATION:The Painters Lounge\, 100 W. Portland St. Suite 108\, Phoenix\, AZ\, 85003\, United States
CATEGORIES:Featured Painting
GEO:33.4601422;-112.0759007
X-APPLE-STRUCTURED-LOCATION;VALUE=URI;X-ADDRESS=The Painters Lounge 100 W. Portland St. Suite 108 Phoenix AZ 85003 United States;X-APPLE-RADIUS=500;X-TITLE=100 W. Portland St. Suite 108:geo:-112.0759007,33.4601422
END:VEVENT
BEGIN:VEVENT
DTSTART;TZID=America/Phoenix:20241207T190000
DTEND;TZID=America/Phoenix:20241207T213000
DTSTAMP:20260421T015711
CREATED:20241109T195820Z
LAST-MODIFIED:20241207T174905Z
UID:10002415-1733598000-1733607000@thepainterslounge.com
SUMMARY:Snowman!
DESCRIPTION:Instructor: Dina \nHey Phoenix- the HOLIDAYS are here!!! Are you ready to have an absolute blast?! Let’s paint & sip! No experience needed! Just come on in and have some fun! \nHere’s the Details: Spend your Saturday Night sipping and painting at The Painters Lounge! Grab your family\, friends or a complete stranger and paint with us! We’ll provide everything you need to paint a SNOWMAN!\, including step-by-step professional art instruction! \nAnd… drumroll please… because we share a suite with Valley Coffee Co\, we serve beer & wine!!! And food! We have a light selection of food\, including sandwiches\, tamales and A-MAZING desserts! Isn’t that awesome!?!? We also have a full COFFEE bar!!! With pastries!! That’s right- we have it all!!! One stop fun! No food or drinks can be brought in\, ‘cuz hey\, we have them! (Extra charge.) One more time… we sell wine! And beer! And food! And coffee! Just arrive a few minutes early and “order up”! \nIn a stress free\, social setting\, an instructor will guide you through replicating the Featured Painting all while adding your own style and artistic touch. Whether you are a true Picasso or still working on a straight line\, you will leave The Lounge with a MASTERPIECE of your own. So why come here? Oh so many reasons! We are located in downtown Phoenix\, on ROOSEVELT ROW. We are right in the middle of the ARTS DISTRICT in a brand new contemporary space\, filled with giant windows! There’s a FREE PARKING garage right outside our front door. Yes\, you read it right – a FREE parking garage! Our ceilings are high\, lots of great lighting and room to move around! We have beautiful furniture\, cuz plastic folding tables don’t exactly inspire\, and our SOUND SYSTEM is killer! \nYou get PROFESSIONAL art instruction\, and a lot of great laughs! Plus we have food\, beer\, wine & coffee right here!! So your painting and sandwich can be side by side\, just like long lost friends! \nCancellation Policy: Whaaat??? You’re gonna cancel? Well ok. But you must cancel 48 hours in advance of the class to receive refund or to be transferred to a different class. 48 hours in advance- that’s it! Easy right? Please DO NOT ask us to bend on this policy- it’s just awkward for all of us! So that’s what you need to know! Now let’s paint and sip! THANKS FOR PAINTING WITH US! WE LOVE Y’ALL!!❤️
URL:https://thepainterslounge.com/event/snowman/
LOCATION:The Painters Lounge\, 100 W. Portland St. Suite 108\, Phoenix\, AZ\, 85003\, United States
CATEGORIES:Featured Painting
GEO:33.4601422;-112.0759007
X-APPLE-STRUCTURED-LOCATION;VALUE=URI;X-ADDRESS=The Painters Lounge 100 W. Portland St. Suite 108 Phoenix AZ 85003 United States;X-APPLE-RADIUS=500;X-TITLE=100 W. Portland St. Suite 108:geo:-112.0759007,33.4601422
END:VEVENT
BEGIN:VEVENT
DTSTART;TZID=America/Phoenix:20241208T140000
DTEND;TZID=America/Phoenix:20241208T163000
DTSTAMP:20260421T015711
CREATED:20241112T172053Z
LAST-MODIFIED:20241208T183123Z
UID:10002416-1733666400-1733675400@thepainterslounge.com
SUMMARY:Golden Borealis
DESCRIPTION:Instructor: Brenda \nHey Phoenix- are you ready to have an absolute blast?! No experience needed! Just come on in and have some fun! \nThis event is off site at GenuWine\, 888 N. 1st Ave.\, Suite 101\, Phoenix. Yep! Off site at GenuWine\, so head to that address and not our studio! \nHere’s the Details: Spend your Sunday afternoon sipping and painting with The Painters Lounge! Grab your family\, friends or a complete stranger and paint with us! We’ll provide everything you need to paint GOLDEN BOREALIS including step-by-step professional art instruction! And… drumroll please… GenuWine is a self serve wine bar!!! And they have food! They have a light selection of snacks! Isn’t that awesome!?!? They have it all!!! One stop fun! No food or drinks can be brought in\, ‘cuz hey\, we have them! (Extra charge.) One more time… we sell wine! And beer! And food! Just arrive a few minutes early and “order up”! \nIn a stress free\, social setting\, an instructor will guide you through replicating the Featured Painting all while adding your own style and artistic touch. Whether you are a true Picasso or still working on a straight line\, you will leave The Lounge with a MASTERPIECE of your own. So why come here? Oh so many reasons! We are located in downtown Phoenix\, on ROOSEVELT ROW. We are right in the middle of the ARTS DISTRICT! There’s a PARKING garage right outside our door\, so parking is oh\, so easy! Our ceilings are high\, lots of great lighting and room to move around! Our SOUND SYSTEM is killer! You get PROFESSIONAL art instruction\, and a lot of great laughs! \nPlus we have food\, beer\, wine & snacks right here!! So your painting and charcuterie can be side by side\, just like long lost friends! \nCancellation Policy: Whaaat??? You’re gonna cancel? Well ok. But you must cancel 48 hours in advance of the class to receive a refund or to be transferred to a different class. 48 hours in advance- that’s it! Easy right? Please DO NOT ask us to bend on this policy- it’s just awkward for all of us! So that’s what you need to know! Now let’s paint and sip! THANKS FOR PAINTING WITH US! WE LOVE Y’ALL!!
URL:https://thepainterslounge.com/event/winter-forest/
LOCATION:GenuWine\, 888 N 1st Ave. Suite 101\, Phoenix\, AZ\, 85003\, United States
CATEGORIES:Featured Painting
GEO:33.4583908;-112.0750316
X-APPLE-STRUCTURED-LOCATION;VALUE=URI;X-ADDRESS=GenuWine 888 N 1st Ave. Suite 101 Phoenix AZ 85003 United States;X-APPLE-RADIUS=500;X-TITLE=888 N 1st Ave. Suite 101:geo:-112.0750316,33.4583908
END:VEVENT
BEGIN:VEVENT
DTSTART;TZID=America/Phoenix:20241213T190000
DTEND;TZID=America/Phoenix:20241213T213000
DTSTAMP:20260421T015711
CREATED:20241114T151620Z
LAST-MODIFIED:20241208T183619Z
UID:10002418-1734116400-1734125400@thepainterslounge.com
SUMMARY:Our Family Stockings
DESCRIPTION:Instructor: Brenda \nHey Phoenix- the HOLIDAYS are here! Are you ready to have an absolute blast?! Let’s paint & sip! No experience needed! Just come on in and have some fun! \nHere’s the Details: You will be able to customize this painting to your family! So spend your Friday Night sipping and painting at The Painters Lounge! Grab your family\, friends or a complete stranger and paint with us! We’ll provide everything you need to paint  OUR FAMILY STOCKINGS\, including step-by-step professional art instruction! \nAnd… drumroll please… because we share a suite with Valley Coffee Co\, we serve beer & wine!!! And food! We have a light selection of food\, including sandwiches\, tamales and A-MAZING desserts! Isn’t that awesome!?!? We also have a full COFFEE bar!!! With pastries!! That’s right- we have it all!!! One stop fun! No food or drinks can be brought in\, ‘cuz hey\, we have them! (Extra charge.) One more time… we sell wine! And beer! And food! And coffee! Just arrive a few minutes early and “order up”! \nIn a stress free\, social setting\, an instructor will guide you through replicating the Featured Painting all while adding your own style and artistic touch. Whether you are a true Picasso or still working on a straight line\, you will leave The Lounge with a MASTERPIECE of your own. So why come here? Oh so many reasons! We are located in downtown Phoenix\, on ROOSEVELT ROW. We are right in the middle of the ARTS DISTRICT in a brand new contemporary space\, filled with giant windows! There’s a FREE PARKING garage right outside our front door. Yes\, you read it right – a FREE parking garage! Our ceilings are high\, lots of great lighting and room to move around! We have beautiful furniture\, cuz plastic folding tables don’t exactly inspire\, and our SOUND SYSTEM is killer! \nYou get PROFESSIONAL art instruction\, and a lot of great laughs! Plus we have food\, beer\, wine & coffee right here!! So your painting and sandwich can be side by side\, just like long lost friends! \nCancellation Policy: Whaaat??? You’re gonna cancel? Well ok. But you must cancel 48 hours in advance of the class to receive refund or to be transferred to a different class. 48 hours in advance- that’s it! Easy right? Please DO NOT ask us to bend on this policy- it’s just awkward for all of us! So that’s what you need to know! Now let’s paint and sip! THANKS FOR PAINTING WITH US! WE LOVE Y’ALL!!❤️
URL:https://thepainterslounge.com/event/our-family-stockings/
LOCATION:The Painters Lounge\, 100 W. Portland St. Suite 108\, Phoenix\, AZ\, 85003\, United States
CATEGORIES:Featured Painting
GEO:33.4601422;-112.0759007
X-APPLE-STRUCTURED-LOCATION;VALUE=URI;X-ADDRESS=The Painters Lounge 100 W. Portland St. Suite 108 Phoenix AZ 85003 United States;X-APPLE-RADIUS=500;X-TITLE=100 W. Portland St. Suite 108:geo:-112.0759007,33.4601422
END:VEVENT
BEGIN:VEVENT
DTSTART;TZID=America/Phoenix:20241214T190000
DTEND;TZID=America/Phoenix:20241214T213000
DTSTAMP:20260421T015711
CREATED:20241112T173511Z
LAST-MODIFIED:20241208T183806Z
UID:10002417-1734202800-1734211800@thepainterslounge.com
SUMMARY:Sparkling Ornaments
DESCRIPTION:Instructor: Dina \nHey Phoenix- the HOLIDAYS are here!!! Are you ready to have an absolute blast?! Let’s paint & sip! No experience needed! Just come on in and have some fun! \nHere’s the Details: Spend your Saturday Night sipping and painting at The Painters Lounge! Grab your family\, friends or a complete stranger and paint with us! We’ll provide everything you need to paint SPARKLING ORNAMENTS\, including step-by-step professional art instruction! (By the way- if pink is not your thing\, you can choose a different background color!) \nAnd… drumroll please… because we share a suite with Valley Coffee Co\, we serve beer & wine!!! And food! We have a light selection of food\, including sandwiches\, tamales and A-MAZING desserts! Isn’t that awesome!?!? We also have a full COFFEE bar!!! With pastries!! That’s right- we have it all!!! One stop fun! No food or drinks can be brought in\, ‘cuz hey\, we have them! (Extra charge.) One more time… we sell wine! And beer! And food! And coffee! Just arrive a few minutes early and “order up”! \nIn a stress free\, social setting\, an instructor will guide you through replicating the Featured Painting all while adding your own style and artistic touch. Whether you are a true Picasso or still working on a straight line\, you will leave The Lounge with a MASTERPIECE of your own. So why come here? Oh so many reasons! We are located in downtown Phoenix\, on ROOSEVELT ROW. We are right in the middle of the ARTS DISTRICT in a brand new contemporary space\, filled with giant windows! There’s a FREE PARKING garage right outside our front door. Yes\, you read it right – a FREE parking garage! Our ceilings are high\, lots of great lighting and room to move around! We have beautiful furniture\, cuz plastic folding tables don’t exactly inspire\, and our SOUND SYSTEM is killer! \nYou get PROFESSIONAL art instruction\, and a lot of great laughs! Plus we have food\, beer\, wine & coffee right here!! So your painting and sandwich can be side by side\, just like long lost friends! \nCancellation Policy: Whaaat??? You’re gonna cancel? Well ok. But you must cancel 48 hours in advance of the class to receive refund or to be transferred to a different class. 48 hours in advance- that’s it! Easy right? Please DO NOT ask us to bend on this policy- it’s just awkward for all of us! So that’s what you need to know! Now let’s paint and sip! THANKS FOR PAINTING WITH US! WE LOVE Y’ALL!!❤️
URL:https://thepainterslounge.com/event/sparkling-ornaments-2/
LOCATION:The Painters Lounge\, 100 W. Portland St. Suite 108\, Phoenix\, AZ\, 85003\, United States
CATEGORIES:Featured Painting
GEO:33.4601422;-112.0759007
X-APPLE-STRUCTURED-LOCATION;VALUE=URI;X-ADDRESS=The Painters Lounge 100 W. Portland St. Suite 108 Phoenix AZ 85003 United States;X-APPLE-RADIUS=500;X-TITLE=100 W. Portland St. Suite 108:geo:-112.0759007,33.4601422
END:VEVENT
BEGIN:VEVENT
DTSTART;TZID=America/Phoenix:20241220T190000
DTEND;TZID=America/Phoenix:20241220T213000
DTSTAMP:20260421T015711
CREATED:20241119T040653Z
LAST-MODIFIED:20241220T054643Z
UID:10002419-1734721200-1734730200@thepainterslounge.com
SUMMARY:Little Cabin
DESCRIPTION:Instructor: Dina \nHey Phoenix- the HOLIDAYS are here! Are you ready to have an absolute blast?! Let’s paint & sip! No experience needed! Just come on in and have some fun! \nHere’s the Details: So spend your Friday Night sipping and painting at The Painters Lounge! Grab your family\, friends or a complete stranger and paint with us! We’ll provide everything you need to paint a LITTLE CABIN\, including step-by-step professional art instruction! \nAnd… drumroll please… because we share a suite with Valley Coffee Co\, we serve beer & wine!!! And food! We have a light selection of food\, including sandwiches\, tamales and A-MAZING desserts! Isn’t that awesome!?!? We also have a full COFFEE bar!!! With pastries!! That’s right- we have it all!!! One stop fun! No food or drinks can be brought in\, ‘cuz hey\, we have them! (Extra charge.) One more time… we sell wine! And beer! And food! And coffee! Just arrive a few minutes early and “order up”! \nIn a stress free\, social setting\, an instructor will guide you through replicating the Featured Painting all while adding your own style and artistic touch. Whether you are a true Picasso or still working on a straight line\, you will leave The Lounge with a MASTERPIECE of your own. So why come here? Oh so many reasons! We are located in downtown Phoenix\, on ROOSEVELT ROW. We are right in the middle of the ARTS DISTRICT in a brand new contemporary space\, filled with giant windows! There’s a FREE PARKING garage right outside our front door. Yes\, you read it right – a FREE parking garage! Our ceilings are high\, lots of great lighting and room to move around! We have beautiful furniture\, cuz plastic folding tables don’t exactly inspire\, and our SOUND SYSTEM is killer! \nYou get PROFESSIONAL art instruction\, and a lot of great laughs! Plus we have food\, beer\, wine & coffee right here!! So your painting and sandwich can be side by side\, just like long lost friends! \nCancellation Policy: Whaaat??? You’re gonna cancel? Well ok. But you must cancel 48 hours in advance of the class to receive refund or to be transferred to a different class. 48 hours in advance- that’s it! Easy right? Please DO NOT ask us to bend on this policy- it’s just awkward for all of us! So that’s what you need to know! Now let’s paint and sip! THANKS FOR PAINTING WITH US! WE LOVE Y’ALL!!❤️
URL:https://thepainterslounge.com/event/little-cabin/
LOCATION:The Painters Lounge\, 100 W. Portland St. Suite 108\, Phoenix\, AZ\, 85003\, United States
CATEGORIES:Featured Painting
GEO:33.4601422;-112.0759007
X-APPLE-STRUCTURED-LOCATION;VALUE=URI;X-ADDRESS=The Painters Lounge 100 W. Portland St. Suite 108 Phoenix AZ 85003 United States;X-APPLE-RADIUS=500;X-TITLE=100 W. Portland St. Suite 108:geo:-112.0759007,33.4601422
END:VEVENT
BEGIN:VEVENT
DTSTART;TZID=America/Phoenix:20241221T190000
DTEND;TZID=America/Phoenix:20241221T213000
DTSTAMP:20260421T015711
CREATED:20241119T200834Z
LAST-MODIFIED:20241208T184057Z
UID:10002420-1734807600-1734816600@thepainterslounge.com
SUMMARY:Golden Borealis
DESCRIPTION:Instructor: Brenda \nHey Phoenix- the HOLIDAYS are here! Are you ready to have an absolute blast?! Let’s paint & sip! No experience needed! Just come on in and have some fun! \nHere’s the Details: So spend your Saturday Night sipping and painting at The Painters Lounge! Grab your family\, friends or a complete stranger and paint with us! We’ll provide everything you need to paint GOLDEN BOREALIS\, including step-by-step professional art instruction! \nAnd… drumroll please… because we share a suite with Valley Coffee Co\, we serve beer & wine!!! And food! We have a light selection of food\, including sandwiches\, tamales and A-MAZING desserts! Isn’t that awesome!?!? We also have a full COFFEE bar!!! With pastries!! That’s right- we have it all!!! One stop fun! No food or drinks can be brought in\, ‘cuz hey\, we have them! (Extra charge.) One more time… we sell wine! And beer! And food! And coffee! Just arrive a few minutes early and “order up”! \nIn a stress free\, social setting\, an instructor will guide you through replicating the Featured Painting all while adding your own style and artistic touch. Whether you are a true Picasso or still working on a straight line\, you will leave The Lounge with a MASTERPIECE of your own. So why come here? Oh so many reasons! We are located in downtown Phoenix\, on ROOSEVELT ROW. We are right in the middle of the ARTS DISTRICT in a brand new contemporary space\, filled with giant windows! There’s a FREE PARKING garage right outside our front door. Yes\, you read it right – a FREE parking garage! Our ceilings are high\, lots of great lighting and room to move around! We have beautiful furniture\, cuz plastic folding tables don’t exactly inspire\, and our SOUND SYSTEM is killer! \nYou get PROFESSIONAL art instruction\, and a lot of great laughs! Plus we have food\, beer\, wine & coffee right here!! So your painting and sandwich can be side by side\, just like long lost friends! \nCancellation Policy: Whaaat??? You’re gonna cancel? Well ok. But you must cancel 48 hours in advance of the class to receive refund or to be transferred to a different class. 48 hours in advance- that’s it! Easy right? Please DO NOT ask us to bend on this policy- it’s just awkward for all of us! So that’s what you need to know! Now let’s paint and sip! THANKS FOR PAINTING WITH US! WE LOVE Y’ALL!!❤️
URL:https://thepainterslounge.com/event/golden-borealis/
LOCATION:The Painters Lounge\, 100 W. Portland St. Suite 108\, Phoenix\, AZ\, 85003\, United States
CATEGORIES:Featured Painting
GEO:33.4601422;-112.0759007
X-APPLE-STRUCTURED-LOCATION;VALUE=URI;X-ADDRESS=The Painters Lounge 100 W. Portland St. Suite 108 Phoenix AZ 85003 United States;X-APPLE-RADIUS=500;X-TITLE=100 W. Portland St. Suite 108:geo:-112.0759007,33.4601422
END:VEVENT
BEGIN:VEVENT
DTSTART;TZID=America/Phoenix:20241227T190000
DTEND;TZID=America/Phoenix:20241227T213000
DTSTAMP:20260421T015711
CREATED:20241104T193524Z
LAST-MODIFIED:20241227T022414Z
UID:10002411-1735326000-1735335000@thepainterslounge.com
SUMMARY:Winter Saguaros
DESCRIPTION:Instructor: Brenda \nHey Phoenix- the HOLIDAYS are here!! Are you ready to have an absolute blast?! Let’s paint & sip! No experience needed! Just come on in and have some fun! \nHere’s the Details: Spend your Friday Night sipping and painting at The Painters Lounge! Grab your family\, friends or a complete stranger and paint with us! We’ll provide everything you need to paint WINTER SAGUAROS\, including step-by-step professional art instruction! \nAnd… drumroll please… because we share a suite with Valley Coffee Co\, we serve beer & wine!!! And food! We have a light selection of food\, including sandwiches\, tamales and A-MAZING desserts! Isn’t that awesome!?!? We also have a full COFFEE bar!!! With pastries!! That’s right- we have it all!!! One stop fun! No food or drinks can be brought in\, ‘cuz hey\, we have them! (Extra charge.) One more time… we sell wine! And beer! And food! And coffee! Just arrive a few minutes early and “order up”! \nIn a stress free\, social setting\, an instructor will guide you through replicating the Featured Painting all while adding your own style and artistic touch. Whether you are a true Picasso or still working on a straight line\, you will leave The Lounge with a MASTERPIECE of your own. So why come here? Oh so many reasons! We are located in downtown Phoenix\, on ROOSEVELT ROW. We are right in the middle of the ARTS DISTRICT in a brand new contemporary space\, filled with giant windows! There’s a FREE PARKING garage right outside our front door. Yes\, you read it right – a FREE parking garage! Our ceilings are high\, lots of great lighting and room to move around! We have beautiful furniture\, cuz plastic folding tables don’t exactly inspire\, and our SOUND SYSTEM is killer! \nYou get PROFESSIONAL art instruction\, and a lot of great laughs! Plus we have food\, beer\, wine & coffee right here!! So your painting and sandwich can be side by side\, just like long lost friends! \nCancellation Policy: Whaaat??? You’re gonna cancel? Well ok. But you must cancel 48 hours in advance of the class to receive refund or to be transferred to a different class. 48 hours in advance- that’s it! Easy right? Please DO NOT ask us to bend on this policy- it’s just awkward for all of us! So that’s what you need to know! Now let’s paint and sip! THANKS FOR PAINTING WITH US! WE LOVE Y’ALL!!❤️
URL:https://thepainterslounge.com/event/lightening-skies/
LOCATION:The Painters Lounge\, 100 W. Portland St. Suite 108\, Phoenix\, AZ\, 85003\, United States
CATEGORIES:Featured Painting
GEO:33.4601422;-112.0759007
X-APPLE-STRUCTURED-LOCATION;VALUE=URI;X-ADDRESS=The Painters Lounge 100 W. Portland St. Suite 108 Phoenix AZ 85003 United States;X-APPLE-RADIUS=500;X-TITLE=100 W. Portland St. Suite 108:geo:-112.0759007,33.4601422
END:VEVENT
BEGIN:VEVENT
DTSTART;TZID=America/Phoenix:20241228T190000
DTEND;TZID=America/Phoenix:20241228T213000
DTSTAMP:20260421T015711
CREATED:20241129T052527Z
LAST-MODIFIED:20241229T004104Z
UID:10002421-1735412400-1735421400@thepainterslounge.com
SUMMARY:Sedona Snow
DESCRIPTION:Instructor: Dina \nHey Phoenix- the HOLIDAYS are here! Are you ready to have an absolute blast?! Let’s paint & sip! No experience needed! Just come on in and have some fun! \nHere’s the Details: So spend your Saturday Night sipping and painting at The Painters Lounge! Grab your family\, friends or a complete stranger and paint with us! We’ll provide everything you need to paint SEDONA SNOW\, including step-by-step professional art instruction! \nAnd… drumroll please… because we share a suite with Valley Coffee Co\, we serve beer & wine!!! And food! We have a light selection of food\, including sandwiches\, tamales and A-MAZING desserts! Isn’t that awesome!?!? We also have a full COFFEE bar!!! With pastries!! That’s right- we have it all!!! One stop fun! No food or drinks can be brought in\, ‘cuz hey\, we have them! (Extra charge.) One more time… we sell wine! And beer! And food! And coffee! Just arrive a few minutes early and “order up”! \nIn a stress free\, social setting\, an instructor will guide you through replicating the Featured Painting all while adding your own style and artistic touch. Whether you are a true Picasso or still working on a straight line\, you will leave The Lounge with a MASTERPIECE of your own. So why come here? Oh so many reasons! We are located in downtown Phoenix\, on ROOSEVELT ROW. We are right in the middle of the ARTS DISTRICT in a brand new contemporary space\, filled with giant windows! There’s a FREE PARKING garage right outside our front door. Yes\, you read it right – a FREE parking garage! Our ceilings are high\, lots of great lighting and room to move around! We have beautiful furniture\, cuz plastic folding tables don’t exactly inspire\, and our SOUND SYSTEM is killer! \nYou get PROFESSIONAL art instruction\, and a lot of great laughs! Plus we have food\, beer\, wine & coffee right here!! So your painting and sandwich can be side by side\, just like long lost friends! \nCancellation Policy: Whaaat??? You’re gonna cancel? Well ok. But you must cancel 48 hours in advance of the class to receive refund or to be transferred to a different class. 48 hours in advance- that’s it! Easy right? Please DO NOT ask us to bend on this policy- it’s just awkward for all of us! So that’s what you need to know! Now let’s paint and sip! THANKS FOR PAINTING WITH US! WE LOVE Y’ALL!!❤️
URL:https://thepainterslounge.com/event/sedona-snow/
LOCATION:The Painters Lounge\, 100 W. Portland St. Suite 108\, Phoenix\, AZ\, 85003\, United States
CATEGORIES:Featured Painting
GEO:33.4601422;-112.0759007
X-APPLE-STRUCTURED-LOCATION;VALUE=URI;X-ADDRESS=The Painters Lounge 100 W. Portland St. Suite 108 Phoenix AZ 85003 United States;X-APPLE-RADIUS=500;X-TITLE=100 W. Portland St. Suite 108:geo:-112.0759007,33.4601422
END:VEVENT
END:VCALENDAR