BEGIN:VCALENDAR
VERSION:2.0
PRODID:-//The Painters Lounge - ECPv6.15.20//NONSGML v1.0//EN
CALSCALE:GREGORIAN
METHOD:PUBLISH
X-ORIGINAL-URL:https://thepainterslounge.com
X-WR-CALDESC:Events for The Painters Lounge
REFRESH-INTERVAL;VALUE=DURATION:PT1H
X-Robots-Tag:noindex
X-PUBLISHED-TTL:PT1H
BEGIN:VTIMEZONE
TZID:America/Phoenix
BEGIN:STANDARD
TZOFFSETFROM:-0700
TZOFFSETTO:-0700
TZNAME:MST
DTSTART:20240101T000000
END:STANDARD
END:VTIMEZONE
BEGIN:VEVENT
DTSTART;TZID=America/Phoenix:20250404T193000
DTEND;TZID=America/Phoenix:20250404T210000
DTSTAMP:20260420T154640
CREATED:20250327T205346Z
LAST-MODIFIED:20250327T205750Z
UID:10002452-1743795000-1743800400@thepainterslounge.com
SUMMARY:Springtime in the Mountains
DESCRIPTION:Instructor: Dina \nHey Phoenix- are you ready to have an absolute blast?! Let’s paint & sip! No experience needed! Just come on in and have some fun! \nHere’s the Details: So spend your Friday Night sipping and painting at The Painters Lounge! Grab your family\, friends or a complete stranger and paint with us! We’ll provide everything you need to paint SPRINGTIME IN THE MOUNTAINS including step-by-step professional art instruction! \nAnd… drumroll please… because we share a suite with Valley Coffee Co\, we serve beer & wine!!! And food! We have a light selection of food\, including sandwiches\, tamales and A-MAZING desserts! Isn’ta that awesome!?!? We also have a full COFFEE bar!!! With pastries!! That’s right- we have it all!!! One stop fun! No food or drinks can be brought in\, ‘cuz hey\, we have them! (Extra charge.) One more time… we sell wine! And beer! And food! And coffee! Just arrive a few minutes early and “order up”! \nIn a stress free\, social setting\, an instructor will guide you through replicating the Featured Painting all while adding your own style and artistic touch. Whether you are a true Picasso or still working on a straight line\, you will leave The Lounge with a MASTERPIECE of your own. So why come here? Oh so many reasons! We are located in downtown Phoenix\, on ROOSEVELT ROW. We are right in the middle of the ARTS DISTRICT in a brand new contemporary space\, filled with giant windows! There’s a FREE PARKING garage right outside our front door. Yes\, you read it right – a FREE parking garage! Our ceilings are high\, lots of great lighting and room to move around! We have beautiful furniture\, cuz plastic folding tables don’t exactly inspire\, and our SOUND SYSTEM is killer! \nYou get PROFESSIONAL art instruction\, and a lot of great laughs! Plus we have food\, beer\, wine & coffee right here!! So your painting and sandwich can be side by side\, just like long lost friends! \nCancellation Policy: Whaaat??? You’re gonna cancel? Well ok. But you must cancel 48 hours in advance of the class to receive refund or to be transferred to a different class. 48 hours in advance- that’s it! Easy right? Please DO NOT ask us to bend on this policy- it’s just awkward for all of us! So that’s what you need to know! Now let’s paint and sip! THANKS FOR PAINTING WITH US! WE LOVE Y’ALL!!❤️
URL:https://thepainterslounge.com/event/springtime-in-the-mountains/
LOCATION:The Painters Lounge\, 100 W. Portland St. Suite 108\, Phoenix\, AZ\, 85003\, United States
CATEGORIES:Featured Painting
ATTACH;FMTTYPE=image/webp:https://thepainterslounge.com/wp-content/uploads/2025/03/Springtime.webp
GEO:33.4601422;-112.0759007
X-APPLE-STRUCTURED-LOCATION;VALUE=URI;X-ADDRESS=The Painters Lounge 100 W. Portland St. Suite 108 Phoenix AZ 85003 United States;X-APPLE-RADIUS=500;X-TITLE=100 W. Portland St. Suite 108:geo:-112.0759007,33.4601422
END:VEVENT
BEGIN:VEVENT
DTSTART;TZID=America/Phoenix:20250405T190000
DTEND;TZID=America/Phoenix:20250405T213000
DTSTAMP:20260420T154640
CREATED:20250327T210940Z
LAST-MODIFIED:20250327T211509Z
UID:10002453-1743879600-1743888600@thepainterslounge.com
SUMMARY:Lavender Fields Forever
DESCRIPTION:Instructor: Brenda \nHey Phoenix- are you ready to have an absolute blast?! Let’s paint & sip! No experience needed! Just come on in and have some fun! \nHere’s the Details: So spend your Saturday Night sipping and painting at The Painters Lounge! Grab your family\, friends or a complete stranger and paint with us! We’ll provide everything you need to paint LAVENDER FIELDS FOREVER including step-by-step professional art instruction! \nAnd… drumroll please… because we share a suite with Valley Coffee Co\, we serve beer & wine!!! And food! We have a light selection of food\, including sandwiches\, tamales and A-MAZING desserts! Isn’t that awesome!?!? We also have a full COFFEE bar!!! With pastries!! That’s right- we have it all!!! One stop fun! No food or drinks can be brought in\, ‘cuz hey\, we have them! (Extra charge.) One more time… we sell wine! And beer! And food! And coffee! Just arrive a few minutes early and “order up”! \nIn a stress free\, social setting\, an instructor will guide you through replicating the Featured Painting all while adding your own style and artistic touch. Whether you are a true Picasso or still working on a straight line\, you will leave The Lounge with a MASTERPIECE of your own. So why come here? Oh so many reasons! We are located in downtown Phoenix\, on ROOSEVELT ROW. We are right in the middle of the ARTS DISTRICT in a brand new contemporary space\, filled with giant windows! There’s a FREE PARKING garage right outside our front door. Yes\, you read it right – a FREE parking garage! Our ceilings are high\, lots of great lighting and room to move around! We have beautiful furniture\, cuz plastic folding tables don’t exactly inspire\, and our SOUND SYSTEM is killer! \nYou get PROFESSIONAL art instruction\, and a lot of great laughs! Plus we have food\, beer\, wine & coffee right here!! So your painting and sandwich can be side by side\, just like long lost friends! \nCancellation Policy: Whaaat??? You’re gonna cancel? Well ok. But you must cancel 48 hours in advance of the class to receive refund or to be transferred to a different class. 48 hours in advance- that’s it! Easy right? Please DO NOT ask us to bend on this policy- it’s just awkward for all of us! So that’s what you need to know! Now let’s paint and sip! THANKS FOR PAINTING WITH US! WE LOVE Y’ALL!!❤️
URL:https://thepainterslounge.com/event/lavender-fields-forever/
LOCATION:The Painters Lounge\, 100 W. Portland St. Suite 108\, Phoenix\, AZ\, 85003\, United States
CATEGORIES:Featured Painting
ATTACH;FMTTYPE=image/webp:https://thepainterslounge.com/wp-content/uploads/2025/03/IMG_5472.webp
GEO:33.4601422;-112.0759007
X-APPLE-STRUCTURED-LOCATION;VALUE=URI;X-ADDRESS=The Painters Lounge 100 W. Portland St. Suite 108 Phoenix AZ 85003 United States;X-APPLE-RADIUS=500;X-TITLE=100 W. Portland St. Suite 108:geo:-112.0759007,33.4601422
END:VEVENT
BEGIN:VEVENT
DTSTART;TZID=America/Phoenix:20250411T190000
DTEND;TZID=America/Phoenix:20250411T213000
DTSTAMP:20260420T154640
CREATED:20250327T211309Z
LAST-MODIFIED:20250327T211309Z
UID:10002454-1744398000-1744407000@thepainterslounge.com
SUMMARY:Central Park
DESCRIPTION:Instructor: Brenda \nHey Phoenix- are you ready to have an absolute blast?! Let’s paint & sip! No experience needed! Just come on in and have some fun! \nHere’s the Details: So spend your Friday Night sipping and painting at The Painters Lounge! Grab your family\, friends or a complete stranger and paint with us! We’ll provide everything you need to paint CENTRAL PARK including step-by-step professional art instruction! \nAnd… drumroll please… because we share a suite with Valley Coffee Co\, we serve beer & wine!!! And food! We have a light selection of food\, including sandwiches\, tamales and A-MAZING desserts! Isn’t that awesome!?!? We also have a full COFFEE bar!!! With pastries!! That’s right- we have it all!!! One stop fun! No food or drinks can be brought in\, ‘cuz hey\, we have them! (Extra charge.) One more time… we sell wine! And beer! And food! And coffee! Just arrive a few minutes early and “order up”! \nIn a stress free\, social setting\, an instructor will guide you through replicating the Featured Painting all while adding your own style and artistic touch. Whether you are a true Picasso or still working on a straight line\, you will leave The Lounge with a MASTERPIECE of your own. So why come here? Oh so many reasons! We are located in downtown Phoenix\, on ROOSEVELT ROW. We are right in the middle of the ARTS DISTRICT in a brand new contemporary space\, filled with giant windows! There’s a FREE PARKING garage right outside our front door. Yes\, you read it right – a FREE parking garage! Our ceilings are high\, lots of great lighting and room to move around! We have beautiful furniture\, cuz plastic folding tables don’t exactly inspire\, and our SOUND SYSTEM is killer! \nYou get PROFESSIONAL art instruction\, and a lot of great laughs! Plus we have food\, beer\, wine & coffee right here!! So your painting and sandwich can be side by side\, just like long lost friends! \nCancellation Policy: Whaaat??? You’re gonna cancel? Well ok. But you must cancel 48 hours in advance of the class to receive refund or to be transferred to a different class. 48 hours in advance- that’s it! Easy right? Please DO NOT ask us to bend on this policy- it’s just awkward for all of us! So that’s what you need to know! Now let’s paint and sip! THANKS FOR PAINTING WITH US! WE LOVE Y’ALL!!❤️
URL:https://thepainterslounge.com/event/central-park/
LOCATION:The Painters Lounge\, 100 W. Portland St. Suite 108\, Phoenix\, AZ\, 85003\, United States
CATEGORIES:Featured Painting
ATTACH;FMTTYPE=image/webp:https://thepainterslounge.com/wp-content/uploads/2025/03/IMG_5711.webp
GEO:33.4601422;-112.0759007
X-APPLE-STRUCTURED-LOCATION;VALUE=URI;X-ADDRESS=The Painters Lounge 100 W. Portland St. Suite 108 Phoenix AZ 85003 United States;X-APPLE-RADIUS=500;X-TITLE=100 W. Portland St. Suite 108:geo:-112.0759007,33.4601422
END:VEVENT
BEGIN:VEVENT
DTSTART;TZID=America/Phoenix:20250412T190000
DTEND;TZID=America/Phoenix:20250412T213000
DTSTAMP:20260420T154640
CREATED:20250327T212009Z
LAST-MODIFIED:20250327T212009Z
UID:10002455-1744484400-1744493400@thepainterslounge.com
SUMMARY:Watching the Sunset
DESCRIPTION:Instructor: Dina \nHey Phoenix- are you ready to have an absolute blast?! Let’s paint & sip! No experience needed! Just come on in and have some fun! \nHere’s the Details: So spend your Saturday Night sipping and painting at The Painters Lounge! Grab your family\, friends or a complete stranger and paint with us! We’ll provide everything you need to paint WATCHING THE SUNSET including step-by-step professional art instruction! \nNOTE: You can paint this one with or without the dog and you can also change the dog to a cat! Sooo fun! \nAnd… drumroll please… because we share a suite with Valley Coffee Co\, we serve beer & wine!!! And food! We have a light selection of food\, including sandwiches\, tamales and A-MAZING desserts! Isn’t that awesome!?!? We also have a full COFFEE bar!!! With pastries!! That’s right- we have it all!!! One stop fun! No food or drinks can be brought in\, ‘cuz hey\, we have them! (Extra charge.) One more time… we sell wine! And beer! And food! And coffee! Just arrive a few minutes early and “order up”! \nIn a stress free\, social setting\, an instructor will guide you through replicating the Featured Painting all while adding your own style and artistic touch. Whether you are a true Picasso or still working on a straight line\, you will leave The Lounge with a MASTERPIECE of your own. So why come here? Oh so many reasons! We are located in downtown Phoenix\, on ROOSEVELT ROW. We are right in the middle of the ARTS DISTRICT in a brand new contemporary space\, filled with giant windows! There’s a FREE PARKING garage right outside our front door. Yes\, you read it right – a FREE parking garage! Our ceilings are high\, lots of great lighting and room to move around! We have beautiful furniture\, cuz plastic folding tables don’t exactly inspire\, and our SOUND SYSTEM is killer! \nYou get PROFESSIONAL art instruction\, and a lot of great laughs! Plus we have food\, beer\, wine & coffee right here!! So your painting and sandwich can be side by side\, just like long lost friends! \nCancellation Policy: Whaaat??? You’re gonna cancel? Well ok. But you must cancel 48 hours in advance of the class to receive refund or to be transferred to a different class. 48 hours in advance- that’s it! Easy right? Please DO NOT ask us to bend on this policy- it’s just awkward for all of us! So that’s what you need to know! Now let’s paint and sip! THANKS FOR PAINTING WITH US! WE LOVE Y’ALL!!❤️
URL:https://thepainterslounge.com/event/watching-the-sunset/
LOCATION:The Painters Lounge\, 100 W. Portland St. Suite 108\, Phoenix\, AZ\, 85003\, United States
CATEGORIES:Featured Painting
ATTACH;FMTTYPE=image/webp:https://thepainterslounge.com/wp-content/uploads/2025/03/IMG_5483-2-scaled-1.webp
GEO:33.4601422;-112.0759007
X-APPLE-STRUCTURED-LOCATION;VALUE=URI;X-ADDRESS=The Painters Lounge 100 W. Portland St. Suite 108 Phoenix AZ 85003 United States;X-APPLE-RADIUS=500;X-TITLE=100 W. Portland St. Suite 108:geo:-112.0759007,33.4601422
END:VEVENT
BEGIN:VEVENT
DTSTART;TZID=America/Phoenix:20250419T190000
DTEND;TZID=America/Phoenix:20250419T213000
DTSTAMP:20260420T154640
CREATED:20250418T201653Z
LAST-MODIFIED:20250418T201653Z
UID:10002463-1745089200-1745098200@thepainterslounge.com
SUMMARY:Lake Life- Flash Sale!
DESCRIPTION:Instructor: Brenda \nHey Phoenix- are you ready to have an absolute blast?! Let’s paint & sip! No experience needed! Just come on in and have some fun! \nHere’s the Details: Spend your Saturday Night sipping and painting at The Painters Lounge! Grab your family\, friends or a complete stranger and paint with us! We’ll provide everything you need to paint LAKE LIFE including step-by-step professional art instruction! \nNOTE: You can paint this one with or without the dog and you can also change the dog to a cat! Sooo fun! \nAnd… drumroll please… because we share a suite with Valley Coffee Co\, we serve beer & wine!!! And food! We have a light selection of food\, including sandwiches\, tamales and A-MAZING desserts! Isn’t that awesome!?!? We also have a full COFFEE bar!!! With pastries!! That’s right- we have it all!!! One stop fun! No food or drinks can be brought in\, ‘cuz hey\, we have them! (Extra charge.) One more time… we sell wine! And beer! And food! And coffee! Just arrive a few minutes early and “order up”! \nIn a stress free\, social setting\, an instructor will guide you through replicating the Featured Painting all while adding your own style and artistic touch. Whether you are a true Picasso or still working on a straight line\, you will leave The Lounge with a MASTERPIECE of your own. So why come here? Oh so many reasons! We are located in downtown Phoenix\, on ROOSEVELT ROW. We are right in the middle of the ARTS DISTRICT in a brand new contemporary space\, filled with giant windows! There’s a FREE PARKING garage right outside our front door. Yes\, you read it right – a FREE parking garage! Our ceilings are high\, lots of great lighting and room to move around! We have beautiful furniture\, cuz plastic folding tables don’t exactly inspire\, and our SOUND SYSTEM is killer! \nYou get PROFESSIONAL art instruction\, and a lot of great laughs! Plus we have food\, beer\, wine & coffee right here!! So your painting and sandwich can be side by side\, just like long lost friends! \nCancellation Policy: Whaaat??? You’re gonna cancel? Well ok. But you must cancel 48 hours in advance of the class to receive refund or to be transferred to a different class. 48 hours in advance- that’s it! Easy right? Please DO NOT ask us to bend on this policy- it’s just awkward for all of us! So that’s what you need to know! Now let’s paint and sip! THANKS FOR PAINTING WITH US! WE LOVE Y’ALL!!❤️
URL:https://thepainterslounge.com/event/lake-life-flash-sale/
LOCATION:The Painters Lounge\, 100 W. Portland St. Suite 108\, Phoenix\, AZ\, 85003\, United States
CATEGORIES:Featured Painting
ATTACH;FMTTYPE=image/webp:https://thepainterslounge.com/wp-content/uploads/2025/04/lake-life-img.webp
GEO:33.4601422;-112.0759007
X-APPLE-STRUCTURED-LOCATION;VALUE=URI;X-ADDRESS=The Painters Lounge 100 W. Portland St. Suite 108 Phoenix AZ 85003 United States;X-APPLE-RADIUS=500;X-TITLE=100 W. Portland St. Suite 108:geo:-112.0759007,33.4601422
END:VEVENT
BEGIN:VEVENT
DTSTART;TZID=America/Phoenix:20250425T190000
DTEND;TZID=America/Phoenix:20250425T213000
DTSTAMP:20260420T154640
CREATED:20250418T201028Z
LAST-MODIFIED:20250418T201028Z
UID:10002462-1745607600-1745616600@thepainterslounge.com
SUMMARY:Pretty Bird
DESCRIPTION:Instructor: Brenda \nHey Phoenix- are you ready to have an absolute blast?! Let’s paint & sip! No experience needed! Just come on in and have some fun! \nHere’s the Details: Spend your Friday Night sipping and painting at The Painters Lounge! Grab your family\, friends or a complete stranger and paint with us! We’ll provide everything you need to paint PRETTY BIRD including step-by-step professional art instruction! \nAnd… drumroll please… because we share a suite with Valley Coffee Co\, we serve beer & wine!!! And food! We have a light selection of food\, including sandwiches\, tamales and A-MAZING desserts! Isn’t that awesome!?!? We also have a full COFFEE bar!!! With pastries!! That’s right- we have it all!!! One stop fun! No food or drinks can be brought in\, ‘cuz hey\, we have them! (Extra charge.) One more time… we sell wine! And beer! And food! And coffee! Just arrive a few minutes early and “order up”! \nIn a stress free\, social setting\, an instructor will guide you through replicating the Featured Painting all while adding your own style and artistic touch. Whether you are a true Picasso or still working on a straight line\, you will leave The Lounge with a MASTERPIECE of your own. So why come here? Oh so many reasons! We are located in downtown Phoenix\, on ROOSEVELT ROW. We are right in the middle of the ARTS DISTRICT in a brand new contemporary space\, filled with giant windows! There’s a FREE PARKING garage right outside our front door. Yes\, you read it right – a FREE parking garage! Our ceilings are high\, lots of great lighting and room to move around! We have beautiful furniture\, cuz plastic folding tables don’t exactly inspire\, and our SOUND SYSTEM is killer! \nYou get PROFESSIONAL art instruction\, and a lot of great laughs! Plus we have food\, beer\, wine & coffee right here!! So your painting and sandwich can be side by side\, just like long lost friends! \nCancellation Policy: Whaaat??? You’re gonna cancel? Well ok. But you must cancel 48 hours in advance of the class to receive refund or to be transferred to a different class. 48 hours in advance- that’s it! Easy right? Please DO NOT ask us to bend on this policy- it’s just awkward for all of us! So that’s what you need to know! Now let’s paint and sip! THANKS FOR PAINTING WITH US! WE LOVE Y’ALL!!❤️
URL:https://thepainterslounge.com/event/pretty-bird/
LOCATION:The Painters Lounge\, 100 W. Portland St. Suite 108\, Phoenix\, AZ\, 85003\, United States
CATEGORIES:Featured Painting
ATTACH;FMTTYPE=image/webp:https://thepainterslounge.com/wp-content/uploads/2025/04/Pretty-Bird-img.webp
GEO:33.4601422;-112.0759007
X-APPLE-STRUCTURED-LOCATION;VALUE=URI;X-ADDRESS=The Painters Lounge 100 W. Portland St. Suite 108 Phoenix AZ 85003 United States;X-APPLE-RADIUS=500;X-TITLE=100 W. Portland St. Suite 108:geo:-112.0759007,33.4601422
END:VEVENT
BEGIN:VEVENT
DTSTART;TZID=America/Phoenix:20250426T190000
DTEND;TZID=America/Phoenix:20250426T213000
DTSTAMP:20260420T154640
CREATED:20250417T235006Z
LAST-MODIFIED:20250418T150211Z
UID:10002461-1745694000-1745703000@thepainterslounge.com
SUMMARY:Sedona Spring
DESCRIPTION:Instructor: Dina \nHey Phoenix- are you ready to have an absolute blast?! Let’s paint & sip! No experience needed! Just come on in and have some fun! \nHere’s the Details: Spend your Saturday Night sipping and painting at The Painters Lounge! Grab your family\, friends or a complete stranger and paint with us! We’ll provide everything you need to paint SEDONA SPRING including step-by-step professional art instruction! \nAnd… drumroll please… because we share a suite with Valley Coffee Co\, we serve beer & wine!!! And food! We have a light selection of food\, including sandwiches\, tamales and A-MAZING desserts! Isn’t that awesome!?!? We also have a full COFFEE bar!!! With pastries!! That’s right- we have it all!!! One stop fun! No food or drinks can be brought in\, ‘cuz hey\, we have them! (Extra charge.) One more time… we sell wine! And beer! And food! And coffee! Just arrive a few minutes early and “order up”! \nIn a stress free\, social setting\, an instructor will guide you through replicating the Featured Painting all while adding your own style and artistic touch. Whether you are a true Picasso or still working on a straight line\, you will leave The Lounge with a MASTERPIECE of your own. So why come here? Oh so many reasons! We are located in downtown Phoenix\, on ROOSEVELT ROW. We are right in the middle of the ARTS DISTRICT in a brand new contemporary space\, filled with giant windows! There’s a FREE PARKING garage right outside our front door. Yes\, you read it right – a FREE parking garage! Our ceilings are high\, lots of great lighting and room to move around! We have beautiful furniture\, cuz plastic folding tables don’t exactly inspire\, and our SOUND SYSTEM is killer! \nYou get PROFESSIONAL art instruction\, and a lot of great laughs! Plus we have food\, beer\, wine & coffee right here!! So your painting and sandwich can be side by side\, just like long lost friends! \nCancellation Policy: Whaaat??? You’re gonna cancel? Well ok. But you must cancel 48 hours in advance of the class to receive refund or to be transferred to a different class. 48 hours in advance- that’s it! Easy right? Please DO NOT ask us to bend on this policy- it’s just awkward for all of us! So that’s what you need to know! Now let’s paint and sip! THANKS FOR PAINTING WITH US! WE LOVE Y’ALL❤️
URL:https://thepainterslounge.com/event/sedona-spring/
LOCATION:The Painters Lounge (Old)\, 100 W. Portland St. Suite 108\, Phoenix\, AZ\, 85003\, United States
CATEGORIES:Featured Painting
ATTACH;FMTTYPE=image/webp:https://thepainterslounge.com/wp-content/uploads/2025/04/Sedona-Spring-img.webp
GEO:33.4589695;-112.0774867
X-APPLE-STRUCTURED-LOCATION;VALUE=URI;X-ADDRESS=The Painters Lounge (Old) 100 W. Portland St. Suite 108 Phoenix AZ 85003 United States;X-APPLE-RADIUS=500;X-TITLE=100 W. Portland St. Suite 108:geo:-112.0774867,33.4589695
END:VEVENT
END:VCALENDAR