BEGIN:VCALENDAR
VERSION:2.0
PRODID:-//The Painters Lounge - ECPv6.15.20//NONSGML v1.0//EN
CALSCALE:GREGORIAN
METHOD:PUBLISH
X-ORIGINAL-URL:https://thepainterslounge.com
X-WR-CALDESC:Events for The Painters Lounge
REFRESH-INTERVAL;VALUE=DURATION:PT1H
X-Robots-Tag:noindex
X-PUBLISHED-TTL:PT1H
BEGIN:VTIMEZONE
TZID:America/Phoenix
BEGIN:STANDARD
TZOFFSETFROM:-0700
TZOFFSETTO:-0700
TZNAME:MST
DTSTART:20240101T000000
END:STANDARD
END:VTIMEZONE
BEGIN:VEVENT
DTSTART;TZID=America/Phoenix:20250502T190000
DTEND;TZID=America/Phoenix:20250502T213000
DTSTAMP:20260420T121959
CREATED:20250417T234108Z
LAST-MODIFIED:20250418T150203Z
UID:10002460-1746212400-1746221400@thepainterslounge.com
SUMMARY:May Flowers
DESCRIPTION:Instructor: Dina \nHey Phoenix- are you ready to have an absolute blast?! Let’s paint & sip! No experience needed! Just come on in and have some fun! \nHere’s the Details: Spend your Friday Night sipping and painting at The Painters Lounge! Grab your family\, friends or a complete stranger and paint with us! We’ll provide everything you need to paint MAY FLOWERS including step-by-step professional art instruction! \nAnd… drumroll please… because we share a suite with Valley Coffee Co\, we serve beer & wine!!! And food! We have a light selection of food\, including sandwiches\, tamales and A-MAZING desserts! Isn’t that awesome!?!? We also have a full COFFEE bar!!! With pastries!! That’s right- we have it all!!! One stop fun! No food or drinks can be brought in\, ‘cuz hey\, we have them! (Extra charge.) One more time… we sell wine! And beer! And food! And coffee! Just arrive a few minutes early and “order up”! \nIn a stress free\, social setting\, an instructor will guide you through replicating the Featured Painting all while adding your own style and artistic touch. Whether you are a true Picasso or still working on a straight line\, you will leave The Lounge with a MASTERPIECE of your own. So why come here? Oh so many reasons! We are located in downtown Phoenix\, on ROOSEVELT ROW. We are right in the middle of the ARTS DISTRICT in a brand new contemporary space\, filled with giant windows! There’s a FREE PARKING garage right outside our front door. Yes\, you read it right – a FREE parking garage! Our ceilings are high\, lots of great lighting and room to move around! We have beautiful furniture\, cuz plastic folding tables don’t exactly inspire\, and our SOUND SYSTEM is killer! \nYou get PROFESSIONAL art instruction\, and a lot of great laughs! Plus we have food\, beer\, wine & coffee right here!! So your painting and sandwich can be side by side\, just like long lost friends! \nCancellation Policy: Whaaat??? You’re gonna cancel? Well ok. But you must cancel 48 hours in advance of the class to receive refund or to be transferred to a different class. 48 hours in advance- that’s it! Easy right? Please DO NOT ask us to bend on this policy- it’s just awkward for all of us! So that’s what you need to know! Now let’s paint and sip! THANKS FOR PAINTING WITH US! WE LOVE Y’ALL❤️
URL:https://thepainterslounge.com/event/may-flowers/
LOCATION:The Painters Lounge\, 100 W. Portland St. Suite 108\, Phoenix\, AZ\, 85003\, United States
CATEGORIES:Featured Painting
ATTACH;FMTTYPE=image/webp:https://thepainterslounge.com/wp-content/uploads/2025/04/May-flowers-img.webp
GEO:33.4601422;-112.0759007
X-APPLE-STRUCTURED-LOCATION;VALUE=URI;X-ADDRESS=The Painters Lounge 100 W. Portland St. Suite 108 Phoenix AZ 85003 United States;X-APPLE-RADIUS=500;X-TITLE=100 W. Portland St. Suite 108:geo:-112.0759007,33.4601422
END:VEVENT
BEGIN:VEVENT
DTSTART;TZID=America/Phoenix:20250503T190000
DTEND;TZID=America/Phoenix:20250503T213000
DTSTAMP:20260420T121959
CREATED:20250417T233555Z
LAST-MODIFIED:20250418T150154Z
UID:10002459-1746298800-1746307800@thepainterslounge.com
SUMMARY:Daisies
DESCRIPTION:Instructor: Dina \nHey Phoenix- are you ready to have an absolute blast?! Let’s paint & sip! No experience needed! Just come on in and have some fun! \nHere’s the Details: Spend your Saturday Night sipping and painting at The Painters Lounge! Grab your family\, friends or a complete stranger and paint with us! We’ll provide everything you need to paint DAISIES including step-by-step professional art instruction! \nAnd… drumroll please… because we share a suite with Valley Coffee Co\, we serve beer & wine!!! And food! We have a light selection of food\, including sandwiches\, tamales and A-MAZING desserts! Isn’t that awesome!?!? We also have a full COFFEE bar!!! With pastries!! That’s right- we have it all!!! One stop fun! No food or drinks can be brought in\, ‘cuz hey\, we have them! (Extra charge.) One more time… we sell wine! And beer! And food! And coffee! Just arrive a few minutes early and “order up”! \nIn a stress free\, social setting\, an instructor will guide you through replicating the Featured Painting all while adding your own style and artistic touch. Whether you are a true Picasso or still working on a straight line\, you will leave The Lounge with a MASTERPIECE of your own. So why come here? Oh so many reasons! We are located in downtown Phoenix\, on ROOSEVELT ROW. We are right in the middle of the ARTS DISTRICT in a brand new contemporary space\, filled with giant windows! There’s a FREE PARKING garage right outside our front door. Yes\, you read it right – a FREE parking garage! Our ceilings are high\, lots of great lighting and room to move around! We have beautiful furniture\, cuz plastic folding tables don’t exactly inspire\, and our SOUND SYSTEM is killer! \nYou get PROFESSIONAL art instruction\, and a lot of great laughs! Plus we have food\, beer\, wine & coffee right here!! So your painting and sandwich can be side by side\, just like long lost friends! \nCancellation Policy: Whaaat??? You’re gonna cancel? Well ok. But you must cancel 48 hours in advance of the class to receive refund or to be transferred to a different class. 48 hours in advance- that’s it! Easy right? Please DO NOT ask us to bend on this policy- it’s just awkward for all of us! So that’s what you need to know! Now let’s paint and sip! THANKS FOR PAINTING WITH US! WE LOVE Y’ALL❤️
URL:https://thepainterslounge.com/event/daisies/
LOCATION:The Painters Lounge\, 100 W. Portland St. Suite 108\, Phoenix\, AZ\, 85003\, United States
CATEGORIES:Featured Painting
ATTACH;FMTTYPE=image/webp:https://thepainterslounge.com/wp-content/uploads/2025/04/Daisies-img.webp
GEO:33.4601422;-112.0759007
X-APPLE-STRUCTURED-LOCATION;VALUE=URI;X-ADDRESS=The Painters Lounge 100 W. Portland St. Suite 108 Phoenix AZ 85003 United States;X-APPLE-RADIUS=500;X-TITLE=100 W. Portland St. Suite 108:geo:-112.0759007,33.4601422
END:VEVENT
BEGIN:VEVENT
DTSTART;TZID=America/Phoenix:20250510T170000
DTEND;TZID=America/Phoenix:20250510T193000
DTSTAMP:20260420T121959
CREATED:20250417T224727Z
LAST-MODIFIED:20250418T150131Z
UID:10002458-1746896400-1746905400@thepainterslounge.com
SUMMARY:Sunny Days- Mother's Day Eve
DESCRIPTION:Instructor: Dina \nHey Phoenix- are you ready to celebrate Mom & have an absolute blast?! You know she deserves it all\, so let’s paint\, sip and show Mom some love!! No experience needed! Just come on in and have some fun! We will have special gifts for all of our Moms! And even if you are not celebrating Mother’s Day\, that’s ok\, come on in! (No Gift Cards accepted for this class.) \nHere’s the Details: Spend your Saturday evening sipping and painting at The Painters Lounge! Grab your family\, friends or a complete stranger and paint with us! We’ll provide everything you need to paint SUNNY DAYS- MOTHER’S DAY EVE including step-by-step professional art instruction! \nAnd… drumroll please… because we share a suite with Valley Coffee Co\, we serve beer & wine!!! And food! We have a light selection of food\, including sandwiches\, tamales and A-MAZING desserts! Isn’t that awesome!?!? We also have a full COFFEE bar!!! With pastries!! That’s right- we have it all!!! One stop fun! No food or drinks can be brought in\, ‘cuz hey\, we have them! (Extra charge.) One more time… we sell wine! And beer! And food! And coffee! Just arrive a few minutes early and “order up”! \nIn a stress free\, social setting\, an instructor will guide you through replicating the Featured Painting all while adding your own style and artistic touch. Whether you are a true Picasso or still working on a straight line\, you will leave The Lounge with a MASTERPIECE of your own. So why come here? Oh so many reasons! We are located in downtown Phoenix\, on ROOSEVELT ROW. We are right in the middle of the ARTS DISTRICT in a brand new contemporary space\, filled with giant windows! There’s a FREE PARKING garage right outside our front door. Yes\, you read it right – a FREE parking garage! Our ceilings are high\, lots of great lighting and room to move around! We have beautiful furniture\, cuz plastic folding tables don’t exactly inspire\, and our SOUND SYSTEM is killer! \nYou get PROFESSIONAL art instruction\, and a lot of great laughs! Plus we have food\, beer\, wine & coffee right here!! So your painting and sandwich can be side by side\, just like long lost friends! \nCancellation Policy: Whaaat??? You’re gonna cancel? Well ok. But you must cancel 48 hours in advance of the class to receive refund or to be transferred to a different class. 48 hours in advance- that’s it! Easy right? Please DO NOT ask us to bend on this policy- it’s just awkward for all of us! So that’s what you need to know! Now let’s paint and sip! THANKS FOR PAINTING WITH US! WE LOVE Y’ALL!!❤️
URL:https://thepainterslounge.com/event/sunny-days-mothers-day-eve/
LOCATION:The Painters Lounge\, 100 W. Portland St. Suite 108\, Phoenix\, AZ\, 85003\, United States
CATEGORIES:Featured Painting
ATTACH;FMTTYPE=image/webp:https://thepainterslounge.com/wp-content/uploads/2025/04/Sunny-Days.webp
GEO:33.4601422;-112.0759007
X-APPLE-STRUCTURED-LOCATION;VALUE=URI;X-ADDRESS=The Painters Lounge 100 W. Portland St. Suite 108 Phoenix AZ 85003 United States;X-APPLE-RADIUS=500;X-TITLE=100 W. Portland St. Suite 108:geo:-112.0759007,33.4601422
END:VEVENT
BEGIN:VEVENT
DTSTART;TZID=America/Phoenix:20250511T140000
DTEND;TZID=America/Phoenix:20250511T163000
DTSTAMP:20260420T121959
CREATED:20250417T223452Z
LAST-MODIFIED:20250418T150123Z
UID:10002457-1746972000-1746981000@thepainterslounge.com
SUMMARY:Flowers for Mom- Mother's Day!
DESCRIPTION:Instructor: Dina \nHey Phoenix- are you ready to celebrate Mom & have an absolute blast?! You know she deserves it all\, so let’s paint\, sip and show Mom some love!! No experience needed! Just come on in and have some fun! We will have special gifts for all of our Moms! (No Gift Cards accepted for this class.) \nThis event is off site at GenuWine\, 888 N. 1st Ave.\, Suite 101\, Phoenix. Yep! Off site at GenuWine\, so head to that address and not our studio! \nHere’s the Details: Spend your Sunday afternoon sipping and painting with The Painters Lounge! Grab your family\, friends or a complete stranger and paint with us! We’ll provide everything you need to paint FLOWERS FOR MOM including step-by-step professional art instruction! And… drumroll please… GenuWine is a self serve wine bar!!! And they have food! They have a light selection of snacks! Isn’t that awesome!?!? They have it all!!! One stop fun! No food or drinks can be brought in\, ‘cuz hey\, we have them! (Extra charge.) One more time… we sell wine! And beer! And food! Just arrive a few minutes early and “order up”! \nIn a stress free\, social setting\, an instructor will guide you through replicating the Featured Painting all while adding your own style and artistic touch. Whether you are a true Picasso or still working on a straight line\, you will leave The Lounge with a MASTERPIECE of your own. So why come here? Oh so many reasons! We are located in downtown Phoenix\, on ROOSEVELT ROW. We are right in the middle of the ARTS DISTRICT! There’s a PARKING garage right outside our door\, so parking is oh\, so easy! Our ceilings are high\, lots of great lighting and room to move around! Our SOUND SYSTEM is killer! You get PROFESSIONAL art instruction\, and a lot of great laughs! \nPlus we have food\, beer\, wine & snacks right here!! So your painting and charcuterie can be side by side\, just like long lost friends! \nCancellation Policy: Whaaat??? You’re gonna cancel? Well ok. But you must cancel 48 hours in advance of the class to receive a refund or to be transferred to a different class. 48 hours in advance- that’s it! Easy right? Please DO NOT ask us to bend on this policy- it’s just awkward for all of us! So that’s what you need to know! Now let’s paint and sip! THANKS FOR PAINTING WITH US! WE LOVE Y’ALL!!
URL:https://thepainterslounge.com/event/flowers-for-mom-mothers-day/
LOCATION:GenuWine\, 888 N 1st Ave. Suite 101\, Phoenix\, AZ\, 85003\, United States
CATEGORIES:Featured Painting
ATTACH;FMTTYPE=image/webp:https://thepainterslounge.com/wp-content/uploads/2025/04/Flowers-for-Mom.webp
GEO:33.4583908;-112.0750316
X-APPLE-STRUCTURED-LOCATION;VALUE=URI;X-ADDRESS=GenuWine 888 N 1st Ave. Suite 101 Phoenix AZ 85003 United States;X-APPLE-RADIUS=500;X-TITLE=888 N 1st Ave. Suite 101:geo:-112.0750316,33.4583908
END:VEVENT
BEGIN:VEVENT
DTSTART;TZID=America/Phoenix:20250516T190000
DTEND;TZID=America/Phoenix:20250516T213000
DTSTAMP:20260420T121959
CREATED:20250417T222546Z
LAST-MODIFIED:20250418T150038Z
UID:10002456-1747422000-1747431000@thepainterslounge.com
SUMMARY:Sunset from the Dock
DESCRIPTION:Instructor: Dina \nHey Phoenix- are you ready to have an absolute blast?! Let’s paint & sip! No experience needed! Just come on in and have some fun! \nHere’s the Details: Spend your Friday Night sipping and painting at The Painters Lounge! Grab your family\, friends or a complete stranger and paint with us! We’ll provide everything you need to paint SUNSET FROM THE DOCK including step-by-step professional art instruction! \nAnd… drumroll please… because we share a suite with Valley Coffee Co\, we serve beer & wine!!! And food! We have a light selection of food\, including sandwiches\, tamales and A-MAZING desserts! Isn’t that awesome!?!? We also have a full COFFEE bar!!! With pastries!! That’s right- we have it all!!! One stop fun! No food or drinks can be brought in\, ‘cuz hey\, we have them! (Extra charge.) One more time… we sell wine! And beer! And food! And coffee! Just arrive a few minutes early and “order up”! \nIn a stress free\, social setting\, an instructor will guide you through replicating the Featured Painting all while adding your own style and artistic touch. Whether you are a true Picasso or still working on a straight line\, you will leave The Lounge with a MASTERPIECE of your own. So why come here? Oh so many reasons! We are located in downtown Phoenix\, on ROOSEVELT ROW. We are right in the middle of the ARTS DISTRICT in a brand new contemporary space\, filled with giant windows! There’s a FREE PARKING garage right outside our front door. Yes\, you read it right – a FREE parking garage! Our ceilings are high\, lots of great lighting and room to move around! We have beautiful furniture\, cuz plastic folding tables don’t exactly inspire\, and our SOUND SYSTEM is killer! \nYou get PROFESSIONAL art instruction\, and a lot of great laughs! Plus we have food\, beer\, wine & coffee right here!! So your painting and sandwich can be side by side\, just like long lost friends! \nCancellation Policy: Whaaat??? You’re gonna cancel? Well ok. But you must cancel 48 hours in advance of the class to receive refund or to be transferred to a different class. 48 hours in advance- that’s it! Easy right? Please DO NOT ask us to bend on this policy- it’s just awkward for all of us! So that’s what you need to know! Now let’s paint and sip! THANKS FOR PAINTING WITH US! WE LOVE Y’ALL❤️
URL:https://thepainterslounge.com/event/sunset-from-the-dock/
LOCATION:The Painters Lounge\, 100 W. Portland St. Suite 108\, Phoenix\, AZ\, 85003\, United States
CATEGORIES:Featured Painting
ATTACH;FMTTYPE=image/webp:https://thepainterslounge.com/wp-content/uploads/2025/04/SUNSET-FROM-THE-DOCK-img.webp
GEO:33.4601422;-112.0759007
X-APPLE-STRUCTURED-LOCATION;VALUE=URI;X-ADDRESS=The Painters Lounge 100 W. Portland St. Suite 108 Phoenix AZ 85003 United States;X-APPLE-RADIUS=500;X-TITLE=100 W. Portland St. Suite 108:geo:-112.0759007,33.4601422
END:VEVENT
END:VCALENDAR